BEGIN:VCALENDAR
VERSION:2.0
PRODID:-//Kandó Sport Club - ECPv6.15.1.1//NONSGML v1.0//EN
CALSCALE:GREGORIAN
METHOD:PUBLISH
X-WR-CALNAME:Kandó Sport Club
X-ORIGINAL-URL:https://kandosc.hu
X-WR-CALDESC:Események Kandó Sport Club
REFRESH-INTERVAL;VALUE=DURATION:PT1H
X-Robots-Tag:noindex
X-PUBLISHED-TTL:PT1H
BEGIN:VTIMEZONE
TZID:Europe/Helsinki
BEGIN:DAYLIGHT
TZOFFSETFROM:+0200
TZOFFSETTO:+0300
TZNAME:EEST
DTSTART:20260329T010000
END:DAYLIGHT
BEGIN:STANDARD
TZOFFSETFROM:+0300
TZOFFSETTO:+0200
TZNAME:EET
DTSTART:20261025T010000
END:STANDARD
END:VTIMEZONE
BEGIN:VEVENT
DTSTART;TZID=Europe/Helsinki:20260505T183000
DTEND;TZID=Europe/Helsinki:20260505T213000
DTSTAMP:20260423T170820
CREATED:20260423T111946Z
LAST-MODIFIED:20260423T111946Z
UID:1659-1778005800-1778016600@kandosc.hu
SUMMARY:Darts verseny 🎯
DESCRIPTION:Sok szeretettel várunk a legújabb amatőr darts bajnokságon\, melynek a helyszíne a Black door darts & sport bar. Úgy érezzük\, itt az ideje szintet lépni és egy teljesen új környezetbe vinni a versenyzést. \n Helyszín:\nBlack Door Darts & sport bar\n1092\, Budapest Kinizsi utca 29 \n Időpont: \n2026. május 5. (kedd)\nKezdés: 18:30 \nÉrkezés: kérjük\, érkezz 15 perccel korábban\, hogy a regisztráció gördülékenyen menjen! \n Verseny menete: \n\nCsoportkörben 301 szimpla kiszálló\, 2 nyert leg\nEgyenes kiesés : 501 szimpla kiszálló\, 2 nyert leg / elődöntőktől: dupla kiszálló\nMaximum 24 fő nevezését tudjuk elfogadni – érdemes időben jelentkezni!\nSaját nyíl megengedett\nCsoportmérkőzések\, majd egyenes kieséses szakasz dönt a helyezésekről.\nSzámolás papíron vagy applikáción történik\, egy azon csoporttagok segítik a számolást a mérkőzéseken\nAz eseményen fotók készülhetnek.\n\n Díjazás: \n\n Kupa a győztesnek\n Érem a dobogósoknak\n2 jóváírt testnevelés alkalom az ÓE hallgatóinak\n\n Nevezési díj: \n\nKandó SC tagoknak: 1 000 Ft\nKülsősöknek: 2000 Ft\n\nA nevezési díjat az alábbi bankszámlaszámra kérjük utalni: \nSzámlavezető bank neve: OTP Bank Nyrt.\nKezdeményezett neve: Óbudai Egyetem Kandó Sport Club\nBankszámlaszám: 11708001-20101220-00000000\nKözlemény: Darts kupa nevezés + Név \n Regisztráció: \nA nevezéshez töltsd ki az alábbi űrlapot:\nAmatőr Darts Bajnokság III. – Űrlap kitöltése \nA jelentkezési űrlap első pár kérdése kötelező a regisztrációhoz\, a többi kérdésre a válasz opcionális jellegű\, melynek célja a jövőbeni események szervezésének megkönnyítése és fejlesztése. \nNe feledd\, a helyek korlátozottak (24 fő)\, a jelentkezés a nevezési díj beérkezésével válik véglegessé! Amennyiben a forms már nem elérhető\, a jelentkezésről lekéstél! \nNevezési határidő: 2026.05.04. 12:00! – a forms űrlap lezárul\, ha megteltek a helyek! Csak akkor érdemes befizetni a nevezési díjat\, ha sikerült kitölteni az űrlapot. \nA sorsolást e-mailen fogjuk megküldeni a jelentkezőknek a verseny előtt\, így mindenki tudni fogja\, hogy regisztrációja és befizetése sikeres volt.. További információkat találtok a social média felületeinken:\n(FB: Kandó Sport Club\, Instagram: kandosportclub) \n Kandó SC tagként további előnyök várnak rád! \n\n Hesters Life: 10% kedvezmény a webshopban\n Life1 Fitness: 20% kedvezmény a bérlet árából\n Garmin 575: 15% kedvezmény a termékekre\nKedvezményes nevezési díjak az eseményeinkre\nFirst Craft Beers: Kedvezményes árak\n\n Gyere el\, játssz egy jót\, és mérd össze tudásod a Kandó legjobb dartsozóival!
URL:https://kandosc.hu/event/darts-verseny-%f0%9f%8e%af/
LOCATION:Black Door Darts & sport bar 1092\, Budapest Kinizsi utca 29
END:VEVENT
END:VCALENDAR