BEGIN:VCALENDAR
VERSION:2.0
PRODID:-//Kandó Sport Club - ECPv6.15.1.1//NONSGML v1.0//EN
CALSCALE:GREGORIAN
METHOD:PUBLISH
X-WR-CALNAME:Kandó Sport Club
X-ORIGINAL-URL:https://kandosc.hu
X-WR-CALDESC:Események Kandó Sport Club
REFRESH-INTERVAL;VALUE=DURATION:PT1H
X-Robots-Tag:noindex
X-PUBLISHED-TTL:PT1H
BEGIN:VTIMEZONE
TZID:Europe/Helsinki
BEGIN:DAYLIGHT
TZOFFSETFROM:+0200
TZOFFSETTO:+0300
TZNAME:EEST
DTSTART:20240331T010000
END:DAYLIGHT
BEGIN:STANDARD
TZOFFSETFROM:+0300
TZOFFSETTO:+0200
TZNAME:EET
DTSTART:20241027T010000
END:STANDARD
END:VTIMEZONE
BEGIN:VEVENT
DTSTART;TZID=Europe/Helsinki:20241207T080000
DTEND;TZID=Europe/Helsinki:20241208T170000
DTSTAMP:20260421T175954
CREATED:20241203T104410Z
LAST-MODIFIED:20241203T104609Z
UID:731-1733558400-1733677200@kandosc.hu
SUMMARY:6th WORLD SPORT KEMPO CHAMPIONSHIP & 28th HANSHI CUP
DESCRIPTION:Időpont: 2024. december 7-8. \nHelyszín: Törökbálint Sportcsarnok\, \, Cím: 2045\, Törökbálint\, Óvoda utca 6. \nElindult a Sport Kempo Világkupa regisztrációs időszaka is\, az alábbi határidőkkel és nevezési díjakkal: \nNevezni az alábbi linkre kattintva tudtok: \nhttps://smoothcomp.com/en/event/18732 \nA versenykiírást az alábbi linkről tudjátok letölteni: \nVersenykiiírás \nHa bármilyen kérdésetek van\, keressetek bátran: \nTel: +36302585175 \ne-mail: karokempo001@gmail.com \nÜdv: \nKyoshi Kárászi Balázs\, 5. Dan
URL:https://kandosc.hu/event/6th-world-sport-kempo-championship-28th-hanshi-cup/
LOCATION:Törökbálint Sportcsarnok\, 2045\, Törökbálint\, Óvoda utca 6.
CATEGORIES:Harcművészet
ATTACH;FMTTYPE=image/jpeg:https://kandosc.hu/wp-content/uploads/2024/12/2024_Hanshi-kupa-ok-1024x724-1.jpg
END:VEVENT
BEGIN:VEVENT
DTSTART;TZID=Europe/Helsinki:20241208T180000
DTEND;TZID=Europe/Helsinki:20241208T180000
DTSTAMP:20260421T175954
CREATED:20241115T094747Z
LAST-MODIFIED:20241115T094747Z
UID:686-1733680800-1733680800@kandosc.hu
SUMMARY:Vízilabda mérkőzés Óbudai Egyetem Kandó SC- III.kerületi Torna és Vívó Egylet
DESCRIPTION:
URL:https://kandosc.hu/event/vizilabda-merkozes-obudai-egyetem-kando-sc-iii-keruleti-torna-es-vivo-egylet/
LOCATION:Budapest\, III. kerületi TVE uszoda
END:VEVENT
BEGIN:VEVENT
DTSTART;TZID=Europe/Helsinki:20241208T180000
DTEND;TZID=Europe/Helsinki:20241208T200000
DTSTAMP:20260421T175954
CREATED:20241010T115123Z
LAST-MODIFIED:20241010T115123Z
UID:584-1733680800-1733688000@kandosc.hu
SUMMARY:Kosárlabda Férfi NB/II: Kandó SC Óbudai Egyetem - Szentendrei KSE
DESCRIPTION:
URL:https://kandosc.hu/event/kosarlabda-ferfi-nb-ii-kando-sc-obudai-egyetem-szentendrei-kse/
LOCATION:Lónyay Utcai Református Gimnázium és Kollégium\, Kinizsi utca 1-7.\, Budapest\, Pest\, 1092\, Magyarország
CATEGORIES:Kosárlabda,Központi
ATTACH;FMTTYPE=image/png:https://kandosc.hu/wp-content/uploads/2024/10/hun3kob.png
END:VEVENT
END:VCALENDAR