BEGIN:VCALENDAR
VERSION:2.0
PRODID:-//Kandó Sport Club - ECPv6.15.1.1//NONSGML v1.0//EN
CALSCALE:GREGORIAN
METHOD:PUBLISH
X-WR-CALNAME:Kandó Sport Club
X-ORIGINAL-URL:https://kandosc.hu
X-WR-CALDESC:Események Kandó Sport Club
REFRESH-INTERVAL;VALUE=DURATION:PT1H
X-Robots-Tag:noindex
X-PUBLISHED-TTL:PT1H
BEGIN:VTIMEZONE
TZID:Europe/Helsinki
BEGIN:DAYLIGHT
TZOFFSETFROM:+0200
TZOFFSETTO:+0300
TZNAME:EEST
DTSTART:20230326T010000
END:DAYLIGHT
BEGIN:STANDARD
TZOFFSETFROM:+0300
TZOFFSETTO:+0200
TZNAME:EET
DTSTART:20231029T010000
END:STANDARD
END:VTIMEZONE
BEGIN:VEVENT
DTSTART;TZID=Europe/Helsinki:20231203T180000
DTEND;TZID=Europe/Helsinki:20231203T200000
DTSTAMP:20260422T072644
CREATED:20230917T182735Z
LAST-MODIFIED:20230917T182735Z
UID:419-1701626400-1701633600@kandosc.hu
SUMMARY:Kosárlabda Férfi NBII. (alapszakasz): Kandó SC-Óbudai Egyetem - BKG-Veresegyház
DESCRIPTION:
URL:https://kandosc.hu/event/kosarlabda-ferfi-nbii-alapszakasz-kando-sc-obudai-egyetem-bkg-veresegyhaz/
LOCATION:Lónyay Utcai Református Gimnázium és Kollégium\, Kinizsi utca 1-7.\, Budapest\, Pest\, 1092\, Magyarország
CATEGORIES:Kosárlabda,Központi
ATTACH;FMTTYPE=image/png:https://kandosc.hu/wp-content/uploads/2023/09/mkosz.png
END:VEVENT
BEGIN:VEVENT
DTSTART;TZID=Europe/Helsinki:20231207T193000
DTEND;TZID=Europe/Helsinki:20231207T213000
DTSTAMP:20260422T072644
CREATED:20230929T132721Z
LAST-MODIFIED:20230929T132721Z
UID:452-1701977400-1701984600@kandosc.hu
SUMMARY:Röplabda Férfi I. osztály: Corvinus - Óbudai Egyetem-Kandó SC
DESCRIPTION:
URL:https://kandosc.hu/event/roplabda-ferfi-i-osztaly-corvinus-obudai-egyetem-kando-sc/
LOCATION:IX. Kinizsi u. 2-6.
CATEGORIES:Központi,Röplabda
ATTACH;FMTTYPE=image/jpeg:https://kandosc.hu/wp-content/uploads/2023/09/Kando-Cimer-roplabda-16-9.jpg
END:VEVENT
BEGIN:VEVENT
DTSTART;TZID=Europe/Helsinki:20231210T180000
DTEND;TZID=Europe/Helsinki:20231210T200000
DTSTAMP:20260422T072644
CREATED:20230917T182843Z
LAST-MODIFIED:20230917T182843Z
UID:421-1702231200-1702238400@kandosc.hu
SUMMARY:Kosárlabda Férfi NBII. (alapszakasz): Kandó SC-Óbudai Egyetem - Budapesti Bikák U23
DESCRIPTION:
URL:https://kandosc.hu/event/kosarlabda-ferfi-nbii-alapszakasz-kando-sc-obudai-egyetem-budapesti-bikak-u23/
LOCATION:Lónyay Utcai Református Gimnázium és Kollégium\, Kinizsi utca 1-7.\, Budapest\, Pest\, 1092\, Magyarország
CATEGORIES:Kosárlabda,Központi
ATTACH;FMTTYPE=image/png:https://kandosc.hu/wp-content/uploads/2023/09/mkosz.png
END:VEVENT
BEGIN:VEVENT
DTSTART;TZID=Europe/Helsinki:20231217T180000
DTEND;TZID=Europe/Helsinki:20231217T200000
DTSTAMP:20260422T072644
CREATED:20230917T182937Z
LAST-MODIFIED:20230917T182937Z
UID:423-1702836000-1702843200@kandosc.hu
SUMMARY:Kosárlabda Férfi NBII. (alapszakasz): Kandó SC-Óbudai Egyetem - BUDAFOK II.
DESCRIPTION:
URL:https://kandosc.hu/event/kosarlabda-ferfi-nbii-alapszakasz-kando-sc-obudai-egyetem-budafok-ii/
LOCATION:Lónyay Utcai Református Gimnázium és Kollégium\, Kinizsi utca 1-7.\, Budapest\, Pest\, 1092\, Magyarország
CATEGORIES:Kosárlabda,Központi
ATTACH;FMTTYPE=image/png:https://kandosc.hu/wp-content/uploads/2023/09/mkosz.png
END:VEVENT
END:VCALENDAR